BEGIN:VCALENDAR
VERSION:2.0
PRODID:-//G12 Business Networking - ECPv6.15.20//NONSGML v1.0//EN
CALSCALE:GREGORIAN
METHOD:PUBLISH
X-WR-CALNAME:G12 Business Networking
X-ORIGINAL-URL:https://g12businessclub.co.uk
X-WR-CALDESC:Events for G12 Business Networking
REFRESH-INTERVAL;VALUE=DURATION:PT1H
X-Robots-Tag:noindex
X-PUBLISHED-TTL:PT1H
BEGIN:VTIMEZONE
TZID:Europe/London
BEGIN:DAYLIGHT
TZOFFSETFROM:+0000
TZOFFSETTO:+0100
TZNAME:BST
DTSTART:20210328T010000
END:DAYLIGHT
BEGIN:STANDARD
TZOFFSETFROM:+0100
TZOFFSETTO:+0000
TZNAME:GMT
DTSTART:20211031T010000
END:STANDARD
BEGIN:DAYLIGHT
TZOFFSETFROM:+0000
TZOFFSETTO:+0100
TZNAME:BST
DTSTART:20220327T010000
END:DAYLIGHT
BEGIN:STANDARD
TZOFFSETFROM:+0100
TZOFFSETTO:+0000
TZNAME:GMT
DTSTART:20221030T010000
END:STANDARD
BEGIN:DAYLIGHT
TZOFFSETFROM:+0000
TZOFFSETTO:+0100
TZNAME:BST
DTSTART:20230326T010000
END:DAYLIGHT
BEGIN:STANDARD
TZOFFSETFROM:+0100
TZOFFSETTO:+0000
TZNAME:GMT
DTSTART:20231029T010000
END:STANDARD
END:VTIMEZONE
BEGIN:VEVENT
DTSTART;TZID=Europe/London:20221123T093000
DTEND;TZID=Europe/London:20221123T113000
DTSTAMP:20260423T142545
CREATED:20220930T080827Z
LAST-MODIFIED:20220930T080827Z
UID:6445-1669195800-1669203000@g12businessclub.co.uk
SUMMARY:BIG Autumn Dartmoor G12 Business Networking
DESCRIPTION:Join us on Wednesday 23rd November from 9.30 am at The Dartmoor Lodge\, Ashburton with the return of our BIG Breakfast meeting. \nG12 Business Networking in Devon is aiming to be the best business network you can attend\, it doesn’t matter if you’re a startup\, sole trader\, entrepreneur or a member of a larger team\, you’ll love the relaxed\, informal environment. \nWe’ve been to the Dartmoor Lodge before and this time we’re in our own dedicated conference room away from the hotels’ paying guests. So for this event\, we’ll have privacy and the same superb standard of service with the help yourself breakfast buffet and bottomless tea and coffees. \n[maxbutton id=”1″ url=”https://BIGautumn.eventbrite.co.uk” ] \nAs always we will be working to our meeting format that includes three guaranteed 10 min 1-2-1 conversations with people you choose – this unlocks so many great opportunities!   \nG12 has no membership fees and no compulsory attendance or forced referrals its just great networking and an opportunity to meet lots of other local business people. So why not come along and join this vibrant group\, we’d love to meet you… \nAgenda for our Dartmoor G12 Business Networking Meeting \nArrive at 9.30am \n9.30 – 9.55 Open Networking & 60 seconds \n9.55 – 10.10 Breakfast is served \n10.10 – 10.20 completion of the 60 second round \n10.30 – Our Guest Speaker (tbc) \n10.30 – 11.20am further networking 1-2-1 opportunity and close
URL:https://g12businessclub.co.uk/event/big-autumn-dartmoor-g12-business-networking/
LOCATION:Dartmoor Lodge\, Peartree Cross\, Ashburton\, Devon\, TQ13 0HX\, United Kingdom
CATEGORIES:Business Breakfast
ATTACH;FMTTYPE=image/jpeg:https://g12businessclub.co.uk/wp-content/uploads/2022/08/PXL_20220713_083456202.jpg
ORGANIZER;CN="G12 Business Club":MAILTO:hello@g12businessclub.co.uk
END:VEVENT
END:VCALENDAR