BEGIN:VCALENDAR
VERSION:2.0
PRODID:-//G12 Business Networking - ECPv6.15.20//NONSGML v1.0//EN
CALSCALE:GREGORIAN
METHOD:PUBLISH
X-WR-CALNAME:G12 Business Networking
X-ORIGINAL-URL:https://g12businessclub.co.uk
X-WR-CALDESC:Events for G12 Business Networking
REFRESH-INTERVAL;VALUE=DURATION:PT1H
X-Robots-Tag:noindex
X-PUBLISHED-TTL:PT1H
BEGIN:VTIMEZONE
TZID:Europe/London
BEGIN:DAYLIGHT
TZOFFSETFROM:+0000
TZOFFSETTO:+0100
TZNAME:BST
DTSTART:20230326T010000
END:DAYLIGHT
BEGIN:STANDARD
TZOFFSETFROM:+0100
TZOFFSETTO:+0000
TZNAME:GMT
DTSTART:20231029T010000
END:STANDARD
BEGIN:DAYLIGHT
TZOFFSETFROM:+0000
TZOFFSETTO:+0100
TZNAME:BST
DTSTART:20240331T010000
END:DAYLIGHT
BEGIN:STANDARD
TZOFFSETFROM:+0100
TZOFFSETTO:+0000
TZNAME:GMT
DTSTART:20241027T010000
END:STANDARD
BEGIN:DAYLIGHT
TZOFFSETFROM:+0000
TZOFFSETTO:+0100
TZNAME:BST
DTSTART:20250330T010000
END:DAYLIGHT
BEGIN:STANDARD
TZOFFSETFROM:+0100
TZOFFSETTO:+0000
TZNAME:GMT
DTSTART:20251026T010000
END:STANDARD
END:VTIMEZONE
BEGIN:VEVENT
DTSTART;TZID=Europe/London:20240716T190000
DTEND;TZID=Europe/London:20240716T223000
DTSTAMP:20260424T041804
CREATED:20240619T114553Z
LAST-MODIFIED:20240619T114553Z
UID:7215-1721156400-1721169000@g12businessclub.co.uk
SUMMARY:G12 Member Summer Barbeque
DESCRIPTION:This is our first member-only event with our summer barbeque at Horses4Life on the outskirts of Chudleigh. \nWe wanted to give it a try having a members-only event and after a busy first half of the year we have a summer barbeque at the wonderful Horses4Life stables just outside of Chudleigh.  This member-only event and partners (sorry no children) where you’ll be able to meet all the animals\, horses\, sheep and dogs (at the time of writing) as well as network with all the current membership. \n\n      \n        \n      \n    \nAs for food and drinks\, Chris will be rocking the barbeque later on serving a variety of burgers and we will have drinks as well\, so with stunning views it should be a fabulous event as the sun goes down. (we can’t promise sunshine\, sorry!) \nJust a note to say we will be starting at 6 and please car share where you can as parking is limited at the stables.
URL:https://g12businessclub.co.uk/event/g12-member-summer-barbeque-2/
LOCATION:Horses4Life\, Stonehill Stables\, Waddon\, Devon\, TQ13 0DJ\, United Kingdom
ATTACH;FMTTYPE=image/jpeg:https://g12businessclub.co.uk/wp-content/uploads/2024/06/WhatsApp-Image-2024-06-12-at-13.22.41-4.jpeg
ORGANIZER;CN="G12 Business Club":MAILTO:hello@g12businessclub.co.uk
END:VEVENT
END:VCALENDAR