BEGIN:VCALENDAR
VERSION:2.0
PRODID:-//G12 Business Networking - ECPv6.15.20//NONSGML v1.0//EN
CALSCALE:GREGORIAN
METHOD:PUBLISH
X-WR-CALNAME:G12 Business Networking
X-ORIGINAL-URL:https://g12businessclub.co.uk
X-WR-CALDESC:Events for G12 Business Networking
REFRESH-INTERVAL;VALUE=DURATION:PT1H
X-Robots-Tag:noindex
X-PUBLISHED-TTL:PT1H
BEGIN:VTIMEZONE
TZID:Europe/London
BEGIN:DAYLIGHT
TZOFFSETFROM:+0000
TZOFFSETTO:+0100
TZNAME:BST
DTSTART:20220327T010000
END:DAYLIGHT
BEGIN:STANDARD
TZOFFSETFROM:+0100
TZOFFSETTO:+0000
TZNAME:GMT
DTSTART:20221030T010000
END:STANDARD
BEGIN:DAYLIGHT
TZOFFSETFROM:+0000
TZOFFSETTO:+0100
TZNAME:BST
DTSTART:20230326T010000
END:DAYLIGHT
BEGIN:STANDARD
TZOFFSETFROM:+0100
TZOFFSETTO:+0000
TZNAME:GMT
DTSTART:20231029T010000
END:STANDARD
BEGIN:DAYLIGHT
TZOFFSETFROM:+0000
TZOFFSETTO:+0100
TZNAME:BST
DTSTART:20240331T010000
END:DAYLIGHT
BEGIN:STANDARD
TZOFFSETFROM:+0100
TZOFFSETTO:+0000
TZNAME:GMT
DTSTART:20241027T010000
END:STANDARD
END:VTIMEZONE
BEGIN:VEVENT
DTSTART;TZID=Europe/London:20231018T103000
DTEND;TZID=Europe/London:20231018T123000
DTSTAMP:20260421T005246
CREATED:20230726T082653Z
LAST-MODIFIED:20230906T065751Z
UID:6682-1697625000-1697632200@g12businessclub.co.uk
SUMMARY:October G12 Business Networking
DESCRIPTION:Join us on Wednesday 18th October from 9.30 am at Teign Valley Golf Club for our October Business Networking event. \nG12 Business Networking in Devon is aiming to be the best business network you can attend\, it doesn’t matter if you’re a startup\, sole trader\, entrepreneur or a member of a larger team\, you’ll love the relaxed\, informal environment. \nAs always we will be working to our meeting format that includes three guaranteed 10 min 1-2-1 conversations with people you choose – this unlocks so many great opportunities! \nG12 has no membership fees and no compulsory attendance or forced referrals its just great networking and an opportunity to meet lots of other local business people. So why not come along and join this vibrant group\, we’d love to meet you… \n[maxbutton id=”1″ url=”https://www.eventbrite.co.uk/e/october-g12-business-networking-tickets-677938772117?” ] \nAgenda for our October G12 Business Networking Meeting \nArrive at 9.30am \n9.30 – 9.55 Open Networking & 60 seconds \n9.55 – 10.10 Breakfast is served \n10.10 – 10.20 completion of the 60 second round \n10.30 – our 10 minute speaker is tbc \n10.30 – 11.20am further networking 1-2-1 opportunity and close \n \nThis includes a fabulous cooked breakfast with a vegetarian and vegan option all with ample tea and coffee all cooked for us – what could be better than that! \nWe’d love to meet you at the next Glorious 12th+ meeting\, we always try to keep the costs to a minimum so all members get maximum value hence why there may be a pay online price and pay on the door price which could be different. Also\, any refunds will be by request only\, the chances are if you’ve said that you’re coming and have paid then we will have paid for your refreshments in advance – we hope you understand. \nNote: Right of admission is reserved\, registering delegates will be screened to ensure the correct audience is in attendance. \n[maxbutton id=”1″ url=”https://www.eventbrite.co.uk/e/october-g12-business-networking-tickets-677938772117?” ]
URL:https://g12businessclub.co.uk/event/october-g12-business-networking/
LOCATION:Teign Valley Golf Club\, Teign Valley Road\, Christow\, Devon\, EX6 7PA\, United Kingdom
CATEGORIES:Business Breakfast
ATTACH;FMTTYPE=image/jpeg:https://g12businessclub.co.uk/wp-content/uploads/2023/07/PXL_20230621_093956792.jpg
ORGANIZER;CN="G12 Business Club":MAILTO:hello@g12businessclub.co.uk
END:VEVENT
END:VCALENDAR