BEGIN:VCALENDAR
VERSION:2.0
PRODID:-//G12 Business Networking - ECPv6.15.20//NONSGML v1.0//EN
CALSCALE:GREGORIAN
METHOD:PUBLISH
X-WR-CALNAME:G12 Business Networking
X-ORIGINAL-URL:https://g12businessclub.co.uk
X-WR-CALDESC:Events for G12 Business Networking
REFRESH-INTERVAL;VALUE=DURATION:PT1H
X-Robots-Tag:noindex
X-PUBLISHED-TTL:PT1H
BEGIN:VTIMEZONE
TZID:Europe/London
BEGIN:DAYLIGHT
TZOFFSETFROM:+0000
TZOFFSETTO:+0100
TZNAME:BST
DTSTART:20230326T010000
END:DAYLIGHT
BEGIN:STANDARD
TZOFFSETFROM:+0100
TZOFFSETTO:+0000
TZNAME:GMT
DTSTART:20231029T010000
END:STANDARD
BEGIN:DAYLIGHT
TZOFFSETFROM:+0000
TZOFFSETTO:+0100
TZNAME:BST
DTSTART:20240331T010000
END:DAYLIGHT
BEGIN:STANDARD
TZOFFSETFROM:+0100
TZOFFSETTO:+0000
TZNAME:GMT
DTSTART:20241027T010000
END:STANDARD
BEGIN:DAYLIGHT
TZOFFSETFROM:+0000
TZOFFSETTO:+0100
TZNAME:BST
DTSTART:20250330T010000
END:DAYLIGHT
BEGIN:STANDARD
TZOFFSETFROM:+0100
TZOFFSETTO:+0000
TZNAME:GMT
DTSTART:20251026T010000
END:STANDARD
END:VTIMEZONE
BEGIN:VEVENT
DTSTART;TZID=Europe/London:20240418T090000
DTEND;TZID=Europe/London:20240418T103000
DTSTAMP:20260423T211529
CREATED:20240301T134149Z
LAST-MODIFIED:20240408T183439Z
UID:6830-1713430800-1713436200@g12businessclub.co.uk
SUMMARY:SW Expo Breakfast by G12 - POSTPONED
DESCRIPTION:On 8th April we were notified the SW Business Expo has been postponed so unfortunately this event has also been postponed. \nJoin us on Thursday 18th April at Westpoint in Exeter for the South West Business Expo pre-show breakfast meeting\, starting at 8am and finishing ready for the show opening at 9.30am. \nWe’re delighted to be running this pre-show breakfast at the UK’s largest one-day business show showcasing the South West Business Community\, so if you’re attending as an exhibitor or coming along a visitor please do join us for what promises to be a great event. \nThis includes a fabulous breakfast bap with a vegetarian and vegan option all with ample tea and coffee all cooked for us – what could be better than that! \nG12 Business Networking in Devon is aiming to be the best business network you can attend\, it doesn’t matter if you’re a startup\, sole trader\, entrepreneur or a member of a larger team\, you’ll love the relaxed\, informal environment. \nAs always we will be working to our meeting format that includes three guaranteed 10 min 1-2-1 conversations with people you choose – this unlocks so many great opportunities! \nG12 has no membership fees and no compulsory attendance or forced referrals its just great networking and an opportunity to meet lots of other local business people. So why not come along and join this vibrant group\, we’d love to meet you \nWe’d love to meet you at the next Glorious 12th+ meeting\, we always try to keep the costs to a minimum so all members get maximum value hence why there may be a pay online price and pay on the door price which could be different. Also\, any refunds will be by request only\, the chances are if you’ve said that you’re coming and have paid then we will have paid for your refreshments in advance – we hope you understand. \nNote: Right of admission is reserved\, registering delegates will be screened to ensure the correct audience is in attendance. \nPlease come to the onsite cafe at the back using the rear cafe-only entrance (the front doors do not open until 9.30am) also you will need to print your ticket to claim your breakfast and drinks
URL:https://g12businessclub.co.uk/event/sw-expo-breakfast-by-g12/
LOCATION:Westpoint Arena\, Exeter\, Clyst St Mary\, Exeter\, Devon\, EX51DJ\, United Kingdom
CATEGORIES:Business Breakfast
ATTACH;FMTTYPE=image/png:https://g12businessclub.co.uk/wp-content/uploads/2022/11/Screenshot-2022-11-18-at-09.36.57.png
ORGANIZER;CN="G12 Business Club":MAILTO:hello@g12businessclub.co.uk
END:VEVENT
END:VCALENDAR