BEGIN:VCALENDAR
VERSION:2.0
PRODID:-//G12 Business Networking - ECPv6.15.20//NONSGML v1.0//EN
CALSCALE:GREGORIAN
METHOD:PUBLISH
X-WR-CALNAME:G12 Business Networking
X-ORIGINAL-URL:https://g12businessclub.co.uk
X-WR-CALDESC:Events for G12 Business Networking
REFRESH-INTERVAL;VALUE=DURATION:PT1H
X-Robots-Tag:noindex
X-PUBLISHED-TTL:PT1H
BEGIN:VTIMEZONE
TZID:Europe/London
BEGIN:DAYLIGHT
TZOFFSETFROM:+0000
TZOFFSETTO:+0100
TZNAME:BST
DTSTART:20250330T010000
END:DAYLIGHT
BEGIN:STANDARD
TZOFFSETFROM:+0100
TZOFFSETTO:+0000
TZNAME:GMT
DTSTART:20251026T010000
END:STANDARD
BEGIN:DAYLIGHT
TZOFFSETFROM:+0000
TZOFFSETTO:+0100
TZNAME:BST
DTSTART:20260329T010000
END:DAYLIGHT
BEGIN:STANDARD
TZOFFSETFROM:+0100
TZOFFSETTO:+0000
TZNAME:GMT
DTSTART:20261025T010000
END:STANDARD
BEGIN:DAYLIGHT
TZOFFSETFROM:+0000
TZOFFSETTO:+0100
TZNAME:BST
DTSTART:20270328T010000
END:DAYLIGHT
BEGIN:STANDARD
TZOFFSETFROM:+0100
TZOFFSETTO:+0000
TZNAME:GMT
DTSTART:20271031T010000
END:STANDARD
END:VTIMEZONE
BEGIN:VEVENT
DTSTART;TZID=Europe/London:20260128T093000
DTEND;TZID=Europe/London:20260128T113000
DTSTAMP:20260423T223058
CREATED:20251205T135938Z
LAST-MODIFIED:20260108T120735Z
UID:8423-1769592600-1769599800@g12businessclub.co.uk
SUMMARY:New Year BIG Breakfast Business Networking
DESCRIPTION:Join us on Wednesday 28th January from 9.30 am at The Phonenix in Chudleigh for our July Big Breakfast Business Networking meeting. \nG12 Business Networking in Devon is aiming to be the best business network you can attend\, it doesn’t matter if you’re a startup\, sole trader\, entrepreneur or a member of a larger team\, you’ll love the relaxed\, informal environment. \nFor this event\, we’ll have privacy and the same superb standard of service with a fabulous breakfast and bottomless tea and coffees. \nAs always we will be working to our meeting format that includes three guaranteed 10 min 1-2-1 conversations with people you choose – this unlocks so many great opportunities! \nG12 has no membership fees and no compulsory attendance or forced referrals its just great networking and an opportunity to meet lots of other local business people. So why not come along and join this vibrant group\, we’d love to meet you… \nAgenda for our June G12 Business Networking Meeting \nArrive at 9.30am \n9.30 – 9.55 Open Networking & 60 seconds \n9.55 – 10.10 Breakfast is served \n10.10 – 10.20 completion of the 60 second round \n10.30 – Our Speaker is Captain Chris Isaac\, who will be talking about the responsibilities of command and equating it to modern management. \n10.30 – 11.20 am our networking 1-2-1 opportunity \n11.30 am – we close the meeting \n\n      \n        \n      \n    \nThis includes a fabulous cooked breakfast with a vegetarian and vegan option all with ample tea and coffee all cooked for us – what could be better than that! \nWe’d love to meet you at the next Glorious 12th+ meeting\, we always try to keep the costs to a minimum so all members get maximum value hence why there may be a pay online price and pay on the door price which could be different. Also\, any refunds will be by request only\, the chances are if you’ve said that you’re coming and have paid then we will have paid for your refreshments in advance – we hope you understand. \nNote: Right of admission is reserved\, registering delegates will be screened to ensure the correct audience is in attendance.
URL:https://g12businessclub.co.uk/event/new-year-big-breakfast-business-networking/
LOCATION:The Phoenix\, 25 Fore Street\, Chudleigh\, Devon\, TQ13 0HX\, United Kingdom
CATEGORIES:Business Breakfast,Selekt,Selekt Teign Group,Teign Referral Group
ATTACH;FMTTYPE=image/jpeg:https://g12businessclub.co.uk/wp-content/uploads/2025/07/G12_June_2025-31.jpg
ORGANIZER;CN="G12 Business Club":MAILTO:hello@g12businessclub.co.uk
END:VEVENT
END:VCALENDAR