BEGIN:VCALENDAR
VERSION:2.0
PRODID:-//G12 Business Networking - ECPv6.15.20//NONSGML v1.0//EN
CALSCALE:GREGORIAN
METHOD:PUBLISH
X-WR-CALNAME:G12 Business Networking
X-ORIGINAL-URL:https://g12businessclub.co.uk
X-WR-CALDESC:Events for G12 Business Networking
REFRESH-INTERVAL;VALUE=DURATION:PT1H
X-Robots-Tag:noindex
X-PUBLISHED-TTL:PT1H
BEGIN:VTIMEZONE
TZID:Europe/London
BEGIN:DAYLIGHT
TZOFFSETFROM:+0000
TZOFFSETTO:+0100
TZNAME:BST
DTSTART:20250330T010000
END:DAYLIGHT
BEGIN:STANDARD
TZOFFSETFROM:+0100
TZOFFSETTO:+0000
TZNAME:GMT
DTSTART:20251026T010000
END:STANDARD
BEGIN:DAYLIGHT
TZOFFSETFROM:+0000
TZOFFSETTO:+0100
TZNAME:BST
DTSTART:20260329T010000
END:DAYLIGHT
BEGIN:STANDARD
TZOFFSETFROM:+0100
TZOFFSETTO:+0000
TZNAME:GMT
DTSTART:20261025T010000
END:STANDARD
BEGIN:DAYLIGHT
TZOFFSETFROM:+0000
TZOFFSETTO:+0100
TZNAME:BST
DTSTART:20270328T010000
END:DAYLIGHT
BEGIN:STANDARD
TZOFFSETFROM:+0100
TZOFFSETTO:+0000
TZNAME:GMT
DTSTART:20271031T010000
END:STANDARD
END:VTIMEZONE
BEGIN:VEVENT
DTSTART;TZID=Europe/London:20260211T093000
DTEND;TZID=Europe/London:20260211T113000
DTSTAMP:20260423T223939
CREATED:20260115T110713Z
LAST-MODIFIED:20260115T111116Z
UID:8567-1770802200-1770809400@g12businessclub.co.uk
SUMMARY:February Cornwall Business Networking with Dawes Accountants
DESCRIPTION:G12 Business Club is excited to partner with Dawes Accountants for a special event at the prestigious St Mellion Estate on Wednesday 11th February. \nJoin us for an insightful and engaging morning of networking\, expert talks\, and valuable business connections. Whether you’re looking to expand your network\, gain fresh business insights\, or simply enjoy the company of like-minded professionals\, this event is one you won’t want to miss. \n🗣 Key Highlights: \nNetworking opportunities with local businesses and professionals\nInsightful presentations by Dawes Accountants\nA chance to build strong business relationships\nDelicious refreshments in a beautiful setting\nAs always we will be working to our meeting format that includes three guaranteed 10 min 1-2-1 conversations with people you choose – this unlocks so many great opportunities! \nAgenda for our Saltash G12 Business Networking Meeting with Dawes Accountants. \nArrive at 9.30am \n9.30 – 9.55 Open Networking & 60 seconds \n9.55 – 10.10 Breakfast is served \n10.10 – 10.20 completion of the 60 second round \n10.30 – Our speaker is Hayley Coy who will be giving an introduction to St Mellion\, some fun facts\, our next steps into enhancing the vision of what we want St–Mellion to be in 5 years. Why we as staff love working here \n10.30 – 11.20am further networking 1-2-1 opportunity and close \nThis includes a fabulous cooked breakfast with a vegetarian and vegan option all with ample tea and coffee all cooked for us – what could be better than that!\n\n      \n        \n      \n    \nCome along and be part of a dynamic business community that supports and uplifts each other. Secure your spot today and get ready to connect\, learn\, and grow with G12 Business Club and Dawes Accountants! \nWe’d love to meet you at the next Glorious 12th+ meeting\, we always try to keep the costs to a minimum so all members get maximum value. Also\, any refunds will be by request only\, the chances are if you’ve said that you’re coming and have paid then we will have paid for your refreshments in advance – we hope you understand. \nNote: Right of admission is reserved\, registering delegates will be screened to ensure the correct audience is in attendance.
URL:https://g12businessclub.co.uk/event/february-cornwall-business-networking-with-dawes-accountants/
LOCATION:St Mellion\, Plymouth\, PL12 6SD\, United Kingdom
CATEGORIES:Business Breakfast
ATTACH;FMTTYPE=image/jpeg:https://g12businessclub.co.uk/wp-content/uploads/2026/01/RNRU-Golf-Day-St-Mellion-050717-6B6A8126.jpg
ORGANIZER;CN="G12 Business Club":MAILTO:hello@g12businessclub.co.uk
END:VEVENT
END:VCALENDAR