BEGIN:VCALENDAR
VERSION:2.0
PRODID:-//G12 Business Networking - ECPv6.15.20//NONSGML v1.0//EN
CALSCALE:GREGORIAN
METHOD:PUBLISH
X-WR-CALNAME:G12 Business Networking
X-ORIGINAL-URL:https://g12businessclub.co.uk
X-WR-CALDESC:Events for G12 Business Networking
REFRESH-INTERVAL;VALUE=DURATION:PT1H
X-Robots-Tag:noindex
X-PUBLISHED-TTL:PT1H
BEGIN:VTIMEZONE
TZID:Europe/London
BEGIN:DAYLIGHT
TZOFFSETFROM:+0000
TZOFFSETTO:+0100
TZNAME:BST
DTSTART:20240331T010000
END:DAYLIGHT
BEGIN:STANDARD
TZOFFSETFROM:+0100
TZOFFSETTO:+0000
TZNAME:GMT
DTSTART:20241027T010000
END:STANDARD
BEGIN:DAYLIGHT
TZOFFSETFROM:+0000
TZOFFSETTO:+0100
TZNAME:BST
DTSTART:20250330T010000
END:DAYLIGHT
BEGIN:STANDARD
TZOFFSETFROM:+0100
TZOFFSETTO:+0000
TZNAME:GMT
DTSTART:20251026T010000
END:STANDARD
BEGIN:DAYLIGHT
TZOFFSETFROM:+0000
TZOFFSETTO:+0100
TZNAME:BST
DTSTART:20260329T010000
END:DAYLIGHT
BEGIN:STANDARD
TZOFFSETFROM:+0100
TZOFFSETTO:+0000
TZNAME:GMT
DTSTART:20261025T010000
END:STANDARD
END:VTIMEZONE
BEGIN:VEVENT
DTSTART;TZID=Europe/London:20250312T150000
DTEND;TZID=Europe/London:20250312T170000
DTSTAMP:20260423T234833
CREATED:20250210T130346Z
LAST-MODIFIED:20250214T091445Z
UID:7527-1741791600-1741798800@g12businessclub.co.uk
SUMMARY:Exeter Afternoon Tea Business Networking
DESCRIPTION:Join us for an elegant afternoon of business networking at Regus Exeter Business Park. Enjoy delightful conversations over tea and coffee and an array of sweet cakes. \nG12 Business Networking in Devon is aiming to be the best business network you can attend\, it doesn’t matter if you’re a startup\, sole trader\, entrepreneur or a member of a larger team\, you’ll love the relaxed\, informal environment. \nAs always we will be working to our meeting format that includes three guaranteed 10 min 1-2-1 conversations with people you choose – this unlocks so many great opportunities! \nG12 has no membership fees and no compulsory attendance or forced referrals its just great networking and an opportunity to meet lots of other local business people. So why not come along and join this vibrant group\, we’d love to meet you… \nThis new format event provides the perfect opportunity to connect with like-minded professionals\, expand your network\, and discover potential collaborations in a relaxed and welcoming atmosphere. \nWhether you’re a seasoned business owner\, an entrepreneur\, or looking to build valuable connections\, this is an afternoon you won’t want to miss. \nWhy Attend? \n\nBuild new business connections\nShare ideas and insights with other professionals\nEnjoy a refined afternoon tea experience\n\nBook Your Spot Today!\n\n      \n        \n      \n     \nWe look forward to seeing you there!
URL:https://g12businessclub.co.uk/event/exeter-afternoon-tea-business-networking/
LOCATION:Regus – Exeter Business Park\, 1 Emperor Way\, Exeter\, Devon\, EX1 3QS\, United Kingdom
CATEGORIES:Afternoon Tea
ATTACH;FMTTYPE=image/png:https://g12businessclub.co.uk/wp-content/uploads/2025/01/regus-exeter.png
ORGANIZER;CN="G12 Business Club":MAILTO:hello@g12businessclub.co.uk
END:VEVENT
END:VCALENDAR