BEGIN:VCALENDAR
VERSION:2.0
PRODID:-//G12 Business Networking - ECPv6.15.20//NONSGML v1.0//EN
CALSCALE:GREGORIAN
METHOD:PUBLISH
X-ORIGINAL-URL:https://g12businessclub.co.uk
X-WR-CALDESC:Events for G12 Business Networking
REFRESH-INTERVAL;VALUE=DURATION:PT1H
X-Robots-Tag:noindex
X-PUBLISHED-TTL:PT1H
BEGIN:VTIMEZONE
TZID:Europe/London
BEGIN:DAYLIGHT
TZOFFSETFROM:+0000
TZOFFSETTO:+0100
TZNAME:BST
DTSTART:20220327T010000
END:DAYLIGHT
BEGIN:STANDARD
TZOFFSETFROM:+0100
TZOFFSETTO:+0000
TZNAME:GMT
DTSTART:20221030T010000
END:STANDARD
BEGIN:DAYLIGHT
TZOFFSETFROM:+0000
TZOFFSETTO:+0100
TZNAME:BST
DTSTART:20230326T010000
END:DAYLIGHT
BEGIN:STANDARD
TZOFFSETFROM:+0100
TZOFFSETTO:+0000
TZNAME:GMT
DTSTART:20231029T010000
END:STANDARD
BEGIN:DAYLIGHT
TZOFFSETFROM:+0000
TZOFFSETTO:+0100
TZNAME:BST
DTSTART:20240331T010000
END:DAYLIGHT
BEGIN:STANDARD
TZOFFSETFROM:+0100
TZOFFSETTO:+0000
TZNAME:GMT
DTSTART:20241027T010000
END:STANDARD
BEGIN:DAYLIGHT
TZOFFSETFROM:+0000
TZOFFSETTO:+0100
TZNAME:BST
DTSTART:20250330T010000
END:DAYLIGHT
BEGIN:STANDARD
TZOFFSETFROM:+0100
TZOFFSETTO:+0000
TZNAME:GMT
DTSTART:20251026T010000
END:STANDARD
BEGIN:DAYLIGHT
TZOFFSETFROM:+0000
TZOFFSETTO:+0100
TZNAME:BST
DTSTART:20260329T010000
END:DAYLIGHT
BEGIN:STANDARD
TZOFFSETFROM:+0100
TZOFFSETTO:+0000
TZNAME:GMT
DTSTART:20261025T010000
END:STANDARD
END:VTIMEZONE
BEGIN:VEVENT
DTSTART;TZID=Europe/London:20250917T093000
DTEND;TZID=Europe/London:20250917T113000
DTSTAMP:20260425T165818
CREATED:20250613T093525Z
LAST-MODIFIED:20250613T093759Z
UID:7709-1758101400-1758108600@g12businessclub.co.uk
SUMMARY:September Saltash Business Networking with Dawes Accountants
DESCRIPTION:G12 Business Club is excited to partner with Dawes Accountants for a special event at the prestigious China Fleet Country Club in Saltash on Wednesday 17 September. \nJoin us for an insightful and engaging morning of networking\, expert talks\, and valuable business connections. Whether you’re looking to expand your network\, gain fresh business insights\, or simply enjoy the company of like-minded professionals\, this event is one you won’t want to miss. \n🗣 Key Highlights: \nNetworking opportunities with local businesses and professionals\nInsightful presentations by Dawes Accountants\nA chance to build strong business relationships\nDelicious refreshments in a beautiful setting\nAs always we will be working to our meeting format that includes three guaranteed 10 min 1-2-1 conversations with people you choose – this unlocks so many great opportunities! \nAgenda for our Saltash G12 Business Networking Meeting with Dawes Accountants. \nArrive at 9.30am \n9.30 – 9.55 Open Networking & 60 seconds \n9.55 – 10.10 Breakfast is served \n10.10 – 10.20 completion of the 60 second round \n10.30 – Our speaker is Lisa Thomas from Parker Andrews. Lisa is a licensed Insolvency Practitioner\, Founder and host of Ladies Lunch Plymouth\, and Professionals of Plymouth networking groups\, and an aspiring author. \n10.30 – 11.20am further networking 1-2-1 opportunity and close \nThis includes a fabulous cooked breakfast with a vegetarian and vegan option all with ample tea and coffee all cooked for us – what could be better than that! \n\n      \n        \n      \n    \nCome along and be part of a dynamic business community that supports and uplifts each other. Secure your spot today and get ready to connect\, learn\, and grow with G12 Business Club and Dawes Accountants! \nWe’d love to meet you at the next Glorious 12th+ meeting\, we always try to keep the costs to a minimum so all members get maximum value. Also\, any refunds will be by request only\, the chances are if you’ve said that you’re coming and have paid then we will have paid for your refreshments in advance – we hope you understand. \nNote: Right of admission is reserved\, registering delegates will be screened to ensure the correct audience is in attendance.
URL:https://g12businessclub.co.uk/event/september-saltash-business-networking-with-dawes-accountants/
LOCATION:China Fleet\, China Fleet Country Club\, Saltash Lane\, Cornwall\, PL12 6LJ\, United Kingdom
CATEGORIES:Business Breakfast,Networking
ATTACH;FMTTYPE=image/jpeg:https://g12businessclub.co.uk/wp-content/uploads/2025/06/PXL_20250514_094812406-scaled.jpg
ORGANIZER;CN="G12 Business Club":MAILTO:hello@g12businessclub.co.uk
END:VEVENT
BEGIN:VEVENT
DTSTART;TZID=Europe/London:20250625T093000
DTEND;TZID=Europe/London:20250625T113000
DTSTAMP:20260425T165818
CREATED:20250512T110242Z
LAST-MODIFIED:20250610T142653Z
UID:7647-1750843800-1750851000@g12businessclub.co.uk
SUMMARY:June Big Breakfast Business Networking
DESCRIPTION:Join us on Wednesday 25th June from 9.30 am at Harcombe House in Chudleigh for our June Big Breakfast Business Networking meeting. \nG12 Business Networking in Devon is aiming to be the best business network you can attend\, it doesn’t matter if you’re a startup\, sole trader\, entrepreneur or a member of a larger team\, you’ll love the relaxed\, informal environment. \nThis will be the first time at Harcombe House and we are in our dedicated area room away from the venues’ paying guests. So for this event\, we’ll have privacy and the same superb standard of service with a fabulous breakfast and bottomless tea and coffees. \nAs always we will be working to our meeting format that includes three guaranteed 10 min 1-2-1 conversations with people you choose – this unlocks so many great opportunities! \nG12 has no membership fees and no compulsory attendance or forced referrals its just great networking and an opportunity to meet lots of other local business people. So why not come along and join this vibrant group\, we’d love to meet you… \nAgenda for our June G12 Business Networking Meeting \nArrive at 9.30am \n9.30 – 9.55 Open Networking & 60 seconds \n9.55 – 10.10 Breakfast is served \n10.10 – 10.20 completion of the 60 second round \n10.30 – Our Speaker is Jim Taylor from Cobalt – BT know that traditional phone lines are approaching the end of their useful life and have made a commitment to withdraw all of their copper products from the market by the end of January 2027. Many of us have had our landline phone number for years and really don’t want to lose it but at the same time\, we want the faster internet speeds that Full Fibre Broadband can deliver. Fret not\, Jim has the answer!\n\n      \n        \n      \n     \n10.30 – 11.20 am our networking 1-2-1 opportunity \n11.30 am – we close the meeting \n\n\n\n\n\nThis includes a fabulous cooked breakfast with a vegetarian and vegan option all with ample tea and coffee all cooked for us – what could be better than that! \nWe’d love to meet you at the next Glorious 12th+ meeting\, we always try to keep the costs to a minimum so all members get maximum value hence why there may be a pay online price and pay on the door price which could be different. Also\, any refunds will be by request only\, the chances are if you’ve said that you’re coming and have paid then we will have paid for your refreshments in advance – we hope you understand. \nNote: Right of admission is reserved\, registering delegates will be screened to ensure the correct audience is in attendance.
URL:https://g12businessclub.co.uk/event/june-big-breakfast-business-networking/
LOCATION:Harcombe House\, Chudleigh\, Devon\, TQ13 0DG\, United Kingdom
CATEGORIES:A38 Referral Group,Business Breakfast,Networking,Selekt Teign Group,Teign Referral Group
ATTACH;FMTTYPE=image/jpeg:https://g12businessclub.co.uk/wp-content/uploads/2025/05/share_1210566772323045906-scaled.jpeg
ORGANIZER;CN="G12 Business Club":MAILTO:hello@g12businessclub.co.uk
END:VEVENT
BEGIN:VEVENT
DTSTART;TZID=Europe/London:20250514T093000
DTEND;TZID=Europe/London:20250514T113000
DTSTAMP:20260425T165818
CREATED:20250307T113054Z
LAST-MODIFIED:20250319T153012Z
UID:7554-1747215000-1747222200@g12businessclub.co.uk
SUMMARY:May Saltash Business Networking with Dawes Accountants
DESCRIPTION:G12 Business Club is excited to partner with Dawes Accountants for a special event at the prestigious China Fleet Country Club in Saltash on Wednesday 14th May. \nJoin us for an insightful and engaging morning of networking\, expert talks\, and valuable business connections. Whether you’re looking to expand your network\, gain fresh business insights\, or simply enjoy the company of like-minded professionals\, this event is one you won’t want to miss. \n🗣 Key Highlights: \n\nNetworking opportunities with local businesses and professionals\nInsightful presentations by Dawes Accountants\nA chance to build strong business relationships\nDelicious refreshments in a beautiful setting\n\n\n      \n        \n      \n    \nAs always we will be working to our meeting format that includes three guaranteed 10 min 1-2-1 conversations with people you choose – this unlocks so many great opportunities! \nAgenda for our Saltash G12 Business Networking Meeting with Dawes Accountants. \nArrive at 9.30am \n9.30 – 9.55 Open Networking & 60 seconds \n9.55 – 10.10 Breakfast is served \n10.10 – 10.20 completion of the 60 second round \n10.30 – Our speaker is Rhian from Insight6 who will be talking about the need to retain good people and how this can reduce costs and increase profits. \n10.30 – 11.20am further networking 1-2-1 opportunity and close \nThis includes a fabulous cooked breakfast with a vegetarian and vegan option all with ample tea and coffee all cooked for us – what could be better than that! \nCome along and be part of a dynamic business community that supports and uplifts each other. Secure your spot today and get ready to connect\, learn\, and grow with G12 Business Club and Dawes Accountants! \nWe’d love to meet you at the next Glorious 12th+ meeting\, we always try to keep the costs to a minimum so all members get maximum value. Also\, any refunds will be by request only\, the chances are if you’ve said that you’re coming and have paid then we will have paid for your refreshments in advance – we hope you understand. \nNote: Right of admission is reserved\, registering delegates will be screened to ensure the correct audience is in attendance.
URL:https://g12businessclub.co.uk/event/may-saltash-business-networking-with-dawes-accountants/
LOCATION:China Fleet\, China Fleet Country Club\, Saltash Lane\, Cornwall\, PL12 6LJ\, United Kingdom
CATEGORIES:Business Breakfast,Networking
ATTACH;FMTTYPE=image/jpeg:https://g12businessclub.co.uk/wp-content/uploads/2024/11/Still-2024-11-14-094134_1.2.1.jpg
ORGANIZER;CN="G12 Business Club":MAILTO:hello@g12businessclub.co.uk
END:VEVENT
BEGIN:VEVENT
DTSTART;TZID=Europe/London:20230920T103000
DTEND;TZID=Europe/London:20230920T123000
DTSTAMP:20260425T165818
CREATED:20230719T123123Z
LAST-MODIFIED:20230719T123123Z
UID:7202-1695205800-1695213000@g12businessclub.co.uk
SUMMARY:September Business Networking
DESCRIPTION:Join us on Wednesday 20th September from 9.30 am at The Dolphin Hotel in Bovey Tracey with our Autumn Breakfast meeting. \nG12 Business Networking in Devon is aiming to be the best business network you can attend\, it doesn’t matter if you’re a startup\, sole trader\, entrepreneur or a member of a larger team\, you’ll love the relaxed\, informal environment. \nWe’ve been to the Dolphin Hotel many times and we’re in our own dedicated conference room away from the hotels’ paying guests. So for this event\, we’ll have privacy and the same superb standard of service with a fabulous breakfast and bottomless tea and coffees. \nAs always we will be working to our meeting format that includes three guaranteed 10 min 1-2-1 conversations with people you choose – this unlocks so many great opportunities! \nG12 has no membership fees and no compulsory attendance or forced referrals its just great networking and an opportunity to meet lots of other local business people. So why not come along and join this vibrant group\, we’d love to meet you… \n[maxbutton id=”1″ url=”https://sept23g12.eventbrite.co.uk” ] \nAgenda for our Dartmoor G12 Business Networking Meeting \nArrive at 9.30am \n9.30 – 9.55 Open Networking & 60 seconds \n9.55 – 10.10 Breakfast is served \n10.10 – 10.20 completion of the 60 second round \n10.30 – Our Guest Speaker is tbc \n10.30 – 11.20am further networking 1-2-1 opportunity and close \n \nThis includes a fabulous cooked breakfast with a vegetarian and vegan option all with ample tea and coffee all cooked for us – what could be better than that! \nWe’d love to meet you at the next Glorious 12th+ meeting\, we always try to keep the costs to a minimum so all members get maximum value hence why there may be a pay online price and pay on the door price which could be different. Also\, any refunds will be by request only\, the chances are if you’ve said that you’re coming and have paid then we will have paid for your refreshments in advance – we hope you understand. \nNote: Right of admission is reserved\, registering delegates will be screened to ensure the correct audience is in attendance. \n[maxbutton id=”1″ url=”https://sept23g12.eventbrite.co.uk” ]
URL:https://g12businessclub.co.uk/event/september-business-networking-2/
LOCATION:The Dolphin Hotel\, 1A Station Road\, Bovey Tracey\, Devon\, TQ13 9AL\, United Kingdom
CATEGORIES:Business Breakfast,Networking
ATTACH;FMTTYPE=image/jpeg:https://g12businessclub.co.uk/wp-content/uploads/2023/07/PXL_20230524_084507916-e1689773334969.jpg
ORGANIZER;CN="G12 Business Club":MAILTO:hello@g12businessclub.co.uk
END:VEVENT
BEGIN:VEVENT
DTSTART;TZID=Europe/London:20230920T103000
DTEND;TZID=Europe/London:20230920T123000
DTSTAMP:20260425T165818
CREATED:20230719T123123Z
LAST-MODIFIED:20230719T123221Z
UID:6674-1695205800-1695213000@g12businessclub.co.uk
SUMMARY:September Business Networking
DESCRIPTION:Join us on Wednesday 20th September from 9.30 am at The Dolphin Hotel in Bovey Tracey with our Autumn Breakfast meeting. \nG12 Business Networking in Devon is aiming to be the best business network you can attend\, it doesn’t matter if you’re a startup\, sole trader\, entrepreneur or a member of a larger team\, you’ll love the relaxed\, informal environment. \nWe’ve been to the Dolphin Hotel many times and we’re in our own dedicated conference room away from the hotels’ paying guests. So for this event\, we’ll have privacy and the same superb standard of service with a fabulous breakfast and bottomless tea and coffees. \nAs always we will be working to our meeting format that includes three guaranteed 10 min 1-2-1 conversations with people you choose – this unlocks so many great opportunities! \nG12 has no membership fees and no compulsory attendance or forced referrals its just great networking and an opportunity to meet lots of other local business people. So why not come along and join this vibrant group\, we’d love to meet you… \n[maxbutton id=”1″ url=”https://sept23g12.eventbrite.co.uk” ] \nAgenda for our Dartmoor G12 Business Networking Meeting \nArrive at 9.30am \n9.30 – 9.55 Open Networking & 60 seconds \n9.55 – 10.10 Breakfast is served \n10.10 – 10.20 completion of the 60 second round \n10.30 – Our Guest Speaker is tbc \n10.30 – 11.20am further networking 1-2-1 opportunity and close \n \nThis includes a fabulous cooked breakfast with a vegetarian and vegan option all with ample tea and coffee all cooked for us – what could be better than that! \nWe’d love to meet you at the next Glorious 12th+ meeting\, we always try to keep the costs to a minimum so all members get maximum value hence why there may be a pay online price and pay on the door price which could be different. Also\, any refunds will be by request only\, the chances are if you’ve said that you’re coming and have paid then we will have paid for your refreshments in advance – we hope you understand. \nNote: Right of admission is reserved\, registering delegates will be screened to ensure the correct audience is in attendance. \n[maxbutton id=”1″ url=”https://sept23g12.eventbrite.co.uk” ]
URL:https://g12businessclub.co.uk/event/september-business-networking/
LOCATION:The Dolphin Hotel\, 1A Station Road\, Bovey Tracey\, Devon\, TQ13 9AL\, United Kingdom
CATEGORIES:Business Breakfast,Networking
ATTACH;FMTTYPE=image/jpeg:https://g12businessclub.co.uk/wp-content/uploads/2023/07/PXL_20230524_084507916-e1689773334969.jpg
ORGANIZER;CN="G12 Business Club":MAILTO:hello@g12businessclub.co.uk
END:VEVENT
BEGIN:VEVENT
DTSTART;TZID=Europe/London:20230719T103000
DTEND;TZID=Europe/London:20230719T123000
DTSTAMP:20260425T165818
CREATED:20230602T110639Z
LAST-MODIFIED:20230602T110639Z
UID:7201-1689762600-1689769800@g12businessclub.co.uk
SUMMARY:BIG Summer Spectacular Dartmoor G12 Business Networking
DESCRIPTION:Join us on Wednesday 19th July from 9.30 am at The Dartmoor Lodge\, Ashburton for our BIG Breakfast Summer Spectacular meeting. \nG12 Business Networking in Devon is aiming to be the best business network you can attend\, it doesn’t matter if you’re a startup\, sole trader\, entrepreneur or a member of a larger team\, you’ll love the relaxed\, informal environment. \nWe’ve been to the Dartmoor Lodge before and we’re in our own dedicated conference room away from the hotels’ paying guests. So for this event\, we’ll have privacy and the same superb standard of service with the help yourself breakfast buffet and bottomless tea and coffees. \nAs always we will be working to our meeting format that includes three guaranteed 10 min 1-2-1 conversations with people you choose – this unlocks so many great opportunities! \nG12 has no membership fees and no compulsory attendance or forced referrals its just great networking and an opportunity to meet lots of other local business people. So why not come along and join this vibrant group\, we’d love to meet you… \n[maxbutton id=”1″ url=”https://www.eventbrite.co.uk/e/big-summer-spectacular-dartmoor-g12-business-networking-tickets-570725233537″ ] \nAgenda for our Dartmoor G12 Business Networking Meeting \nArrive at 9.30am \n9.30 – 9.55 Open Networking & 60 seconds \n9.55 – 10.10 Breakfast is served \n10.10 – 10.20 completion of the 60 second round \n10.30 – Our Guest Speaker (tbc) \n10.30 – 11.20am further networking 1-2-1 opportunity and close \n \nThis includes a fabulous cooked breakfast with a vegetarian and vegan option all with ample tea and coffee all cooked for us – what could be better than that! \nWe’d love to meet you at the next Glorious 12th+ meeting\, we always try to keep the costs to a minimum so all members get maximum value hence why there may be a pay online price and pay on the door price which could be different. Also\, any refunds will be by request only\, the chances are if you’ve said that you’re coming and have paid then we will have paid for your refreshments in advance – we hope you understand. \nNote: Right of admission is reserved\, registering delegates will be screened to ensure the correct audience is in attendance.
URL:https://g12businessclub.co.uk/event/big-summer-spectacular-dartmoor-g12-business-networking-2/
LOCATION:Dartmoor Lodge\, Peartree Cross\, Ashburton\, Devon\, TQ13 0HX\, United Kingdom
CATEGORIES:Business Breakfast,Networking
ATTACH;FMTTYPE=image/jpeg:https://g12businessclub.co.uk/wp-content/uploads/2023/01/PXL_20220713_094944989.jpg
ORGANIZER;CN="G12 Business Club":MAILTO:hello@g12businessclub.co.uk
END:VEVENT
BEGIN:VEVENT
DTSTART;TZID=Europe/London:20230719T103000
DTEND;TZID=Europe/London:20230719T123000
DTSTAMP:20260425T165818
CREATED:20230602T110639Z
LAST-MODIFIED:20230719T122656Z
UID:6655-1689762600-1689769800@g12businessclub.co.uk
SUMMARY:BIG Summer Spectacular Dartmoor G12 Business Networking
DESCRIPTION:Join us on Wednesday 19th July from 9.30 am at The Dartmoor Lodge\, Ashburton for our BIG Breakfast Summer Spectacular meeting. \nG12 Business Networking in Devon is aiming to be the best business network you can attend\, it doesn’t matter if you’re a startup\, sole trader\, entrepreneur or a member of a larger team\, you’ll love the relaxed\, informal environment. \nWe’ve been to the Dartmoor Lodge before and we’re in our own dedicated conference room away from the hotels’ paying guests. So for this event\, we’ll have privacy and the same superb standard of service with the help yourself breakfast buffet and bottomless tea and coffees. \nAs always we will be working to our meeting format that includes three guaranteed 10 min 1-2-1 conversations with people you choose – this unlocks so many great opportunities! \nG12 has no membership fees and no compulsory attendance or forced referrals its just great networking and an opportunity to meet lots of other local business people. So why not come along and join this vibrant group\, we’d love to meet you… \n[maxbutton id=”1″ url=”https://www.eventbrite.co.uk/e/big-summer-spectacular-dartmoor-g12-business-networking-tickets-570725233537″ ] \nAgenda for our Dartmoor G12 Business Networking Meeting \nArrive at 9.30am \n9.30 – 9.55 Open Networking & 60 seconds \n9.55 – 10.10 Breakfast is served \n10.10 – 10.20 completion of the 60 second round \n10.30 – Our Guest Speaker (tbc) \n10.30 – 11.20am further networking 1-2-1 opportunity and close \n \nThis includes a fabulous cooked breakfast with a vegetarian and vegan option all with ample tea and coffee all cooked for us – what could be better than that! \nWe’d love to meet you at the next Glorious 12th+ meeting\, we always try to keep the costs to a minimum so all members get maximum value hence why there may be a pay online price and pay on the door price which could be different. Also\, any refunds will be by request only\, the chances are if you’ve said that you’re coming and have paid then we will have paid for your refreshments in advance – we hope you understand. \nNote: Right of admission is reserved\, registering delegates will be screened to ensure the correct audience is in attendance.
URL:https://g12businessclub.co.uk/event/big-summer-spectacular-dartmoor-g12-business-networking/
LOCATION:Dartmoor Lodge\, Peartree Cross\, Ashburton\, Devon\, TQ13 0HX\, United Kingdom
CATEGORIES:Business Breakfast,Networking
ATTACH;FMTTYPE=image/jpeg:https://g12businessclub.co.uk/wp-content/uploads/2023/01/PXL_20220713_094944989.jpg
ORGANIZER;CN="G12 Business Club":MAILTO:hello@g12businessclub.co.uk
END:VEVENT
BEGIN:VEVENT
DTSTART;TZID=Europe/London:20230705T180000
DTEND;TZID=Europe/London:20230705T200000
DTSTAMP:20260425T165818
CREATED:20230526T085441Z
LAST-MODIFIED:20230526T085441Z
UID:7200-1688580000-1688587200@g12businessclub.co.uk
SUMMARY:Networking and Shooting at Crackshot in Heathfield
DESCRIPTION:Come join us on July 5th between 5 pm -7 pm for an after-work shooting experience at Crackshot on Heathfield. \nYou’ll have the opportunity to try your expertise on the Air Rifles range and pistol ranges\, we may even have prizes for the best shot or closest. At the same time you’ll be in the running to win prizes\, so you may not go home empty handed!\nAs you would expect of a G12 event we’ll have catering while networking with a selection of sweet treats as well as soft drinks for us to enjoy as we all meet\, greet and make new contacts. \n[maxbutton id=”1″ url=”https://crackshotnetworking.eventbrite.co.uk” ] \nG12 Business Networking in Devon is aiming to be the best business network you can attend\, it doesn’t matter if you’re a startup\, sole trader\, entrepreneur or a member of a larger team\, you’ll love the relaxed\, informal environment.\nRemember we have no membership fees and no compulsory attendance or forced referrals it’s just great networking and an opportunity to meet lots of other local business people. So why not come along and join this vibrant group\, we’d love to meet you…
URL:https://g12businessclub.co.uk/event/networking-and-shooting-at-crackshot-in-heathfield-2/
LOCATION:Crackshot Air Gun Cantre and Rifle Range\, Heathfield\, Newton Abbot\, Devon\, TQ12 6TW\, United Kingdom
CATEGORIES:Networking
ATTACH;FMTTYPE=image/png:https://g12businessclub.co.uk/wp-content/uploads/2023/05/g12-crackshot.png
ORGANIZER;CN="G12 Business Club":MAILTO:hello@g12businessclub.co.uk
END:VEVENT
BEGIN:VEVENT
DTSTART;TZID=Europe/London:20230705T180000
DTEND;TZID=Europe/London:20230705T200000
DTSTAMP:20260425T165818
CREATED:20230526T085441Z
LAST-MODIFIED:20230526T085441Z
UID:6644-1688580000-1688587200@g12businessclub.co.uk
SUMMARY:Networking and Shooting at Crackshot in Heathfield
DESCRIPTION:Come join us on July 5th between 5 pm -7 pm for an after-work shooting experience at Crackshot on Heathfield. \nYou’ll have the opportunity to try your expertise on the Air Rifles range and pistol ranges\, we may even have prizes for the best shot or closest. At the same time you’ll be in the running to win prizes\, so you may not go home empty handed!\nAs you would expect of a G12 event we’ll have catering while networking with a selection of sweet treats as well as soft drinks for us to enjoy as we all meet\, greet and make new contacts. \n[maxbutton id=”1″ url=”https://crackshotnetworking.eventbrite.co.uk” ] \nG12 Business Networking in Devon is aiming to be the best business network you can attend\, it doesn’t matter if you’re a startup\, sole trader\, entrepreneur or a member of a larger team\, you’ll love the relaxed\, informal environment.\nRemember we have no membership fees and no compulsory attendance or forced referrals it’s just great networking and an opportunity to meet lots of other local business people. So why not come along and join this vibrant group\, we’d love to meet you…
URL:https://g12businessclub.co.uk/event/networking-and-shooting-at-crackshot-in-heathfield/
LOCATION:Crackshot Air Gun Cantre and Rifle Range\, Heathfield\, Newton Abbot\, Devon\, TQ12 6TW\, United Kingdom
CATEGORIES:Networking
ATTACH;FMTTYPE=image/png:https://g12businessclub.co.uk/wp-content/uploads/2023/05/g12-crackshot.png
ORGANIZER;CN="G12 Business Club":MAILTO:hello@g12businessclub.co.uk
END:VEVENT
END:VCALENDAR