BEGIN:VCALENDAR
VERSION:2.0
PRODID:-//G12 Business Networking - ECPv6.15.20//NONSGML v1.0//EN
CALSCALE:GREGORIAN
METHOD:PUBLISH
X-ORIGINAL-URL:https://g12businessclub.co.uk
X-WR-CALDESC:Events for G12 Business Networking
REFRESH-INTERVAL;VALUE=DURATION:PT1H
X-Robots-Tag:noindex
X-PUBLISHED-TTL:PT1H
BEGIN:VTIMEZONE
TZID:Europe/London
BEGIN:DAYLIGHT
TZOFFSETFROM:+0000
TZOFFSETTO:+0100
TZNAME:BST
DTSTART:20250330T010000
END:DAYLIGHT
BEGIN:STANDARD
TZOFFSETFROM:+0100
TZOFFSETTO:+0000
TZNAME:GMT
DTSTART:20251026T010000
END:STANDARD
BEGIN:DAYLIGHT
TZOFFSETFROM:+0000
TZOFFSETTO:+0100
TZNAME:BST
DTSTART:20260329T010000
END:DAYLIGHT
BEGIN:STANDARD
TZOFFSETFROM:+0100
TZOFFSETTO:+0000
TZNAME:GMT
DTSTART:20261025T010000
END:STANDARD
BEGIN:DAYLIGHT
TZOFFSETFROM:+0000
TZOFFSETTO:+0100
TZNAME:BST
DTSTART:20270328T010000
END:DAYLIGHT
BEGIN:STANDARD
TZOFFSETFROM:+0100
TZOFFSETTO:+0000
TZNAME:GMT
DTSTART:20271031T010000
END:STANDARD
END:VTIMEZONE
BEGIN:VEVENT
DTSTART;TZID=Europe/London:20260225T093000
DTEND;TZID=Europe/London:20260225T113000
DTSTAMP:20260423T224558
CREATED:20260108T122749Z
LAST-MODIFIED:20260218T145202Z
UID:8555-1772011800-1772019000@g12businessclub.co.uk
SUMMARY:February Big Breakfast Business Networking
DESCRIPTION:Join us on Wednesday 25th February from 9.30 am at The Cockhaven Arms in Bishopsteignton for our Big Breakfast meeting. \nG12 Business Networking in Devon is aiming to be the best business network you can attend\, it doesn’t matter if you’re a startup\, sole trader\, entrepreneur or a member of a larger team\, you’ll love the relaxed\, informal environment. \nAt the Cockhaven Arms but we are in our own dedicated area room away from the hotels’ paying guests. So for this event\, we’ll have privacy and the same superb standard of service with a fabulous breakfast and bottomless tea and coffees. \nAs always we will be working to our meeting format that includes three guaranteed 10 min 1-2-1 conversations with people you choose – this unlocks so many great opportunities! \nG12 has no membership fees and no compulsory attendance or forced referrals its just great networking and an opportunity to meet lots of other local business people. So why not come along and join this vibrant group\, we’d love to meet you… \n\n      \n        \n      \n    \nAgenda for our Dartmoor G12 Business Networking Meeting \nArrive at 9.30am \n9.30 – 9.55 Open Networking & 60 seconds \n9.55 – 10.10 Breakfast is served \n10.10 – 10.20 completion of the 60 second round \n10.30 – This month is our 2026 Business Book Exchange event – Leaders don’t just network. They learn \n10.30 – 11.20 am our networking 1-2-1 opportunity \n \nThis includes a fabulous cooked breakfast with a vegetarian and vegan option all with ample tea and coffee all cooked for us – what could be better than that! \nWe’d love to meet you at the next Glorious 12th+ meeting\, we always try to keep the costs to a minimum so all members get maximum value hence why there may be a pay online price and pay on the door price which could be different. Also\, any refunds will be by request only\, the chances are if you’ve said that you’re coming and have paid then we will have paid for your refreshments in advance – we hope you understand. \nNote: Right of admission is reserved\, registering delegates will be screened to ensure the correct audience is in attendance.
URL:https://g12businessclub.co.uk/event/february-big-breakfast-business-networking/
LOCATION:Cockhaven Arms\, 16 Cockhaven Road\, Bishopsteignton\, Devon\, TQ14 9RF\, United Kingdom
CATEGORIES:Business Breakfast,Selekt,Selekt Teign Group
ATTACH;FMTTYPE=image/jpeg:https://g12businessclub.co.uk/wp-content/uploads/2025/07/G12_June_2025-19.jpg
ORGANIZER;CN="G12 Business Club":MAILTO:hello@g12businessclub.co.uk
END:VEVENT
BEGIN:VEVENT
DTSTART;TZID=Europe/London:20260304T093000
DTEND;TZID=Europe/London:20260304T113000
DTSTAMP:20260423T224558
CREATED:20260115T113359Z
LAST-MODIFIED:20260115T113359Z
UID:8572-1772616600-1772623800@g12businessclub.co.uk
SUMMARY:March G12 Teign Selekt
DESCRIPTION:Join us on Wednesday 4th March from 9.30 am at Cafe ODE on Ness Drive in Shaldon for our G12 Selekt Business Networking Referral event for our new 2026 format! \nG12 Business Networking in Devon aims to be the best business network you can attend\, it doesn’t matter if you’re a startup\, sole trader\, entrepreneur\, or a member of a larger team\, you’ll love the relaxed\, informal environment. \nWe’ve expanded this successful format to now offer a Selekt Business Referral group as well as our usual last Wednesday of the month business networking event. \nFor this G12 Selekt meeting\, you’re invited to join other business professionals in our community\, who contribute to the mutual success of all members. \nThe meeting will provide an excellent opportunity to: \nExpand Your Network: Connect with a diverse group of professionals\, potential clients\, and collaborators from various industries.\nGenerate Qualified Referrals: Access to a pool of referrals that can lead to new business opportunities and partnerships.\nBuild Trust and Credibility: Establish yourself as a trusted resource within the community by consistently providing and receiving valuable referrals.\nEnhance Visibility: Increase your business’s visibility and brand awareness among a targeted audience of decision-makers and influencers.\nLearn and Grow: Gain insights from industry experts and peers that can help you refine your networking skills and business strategies.\nAccelerate Business Growth: Leverage the power of referrals to accelerate your business growth and achieve your professional goals.\nSupportive Community: Join a supportive community of like-minded professionals who are invested in each other’s success and willing to collaborate.\n\n      \n        \n      \n     \nG12 Selekt Meeting Agenda\nWelcome and Introduction\nMember Introductions and Business Pitches\nReferral Exchange and Networking\nDiscussion on Group Goals and Future Meetings\nQ&A and Closing Remarks\nWe are committed to creating a dynamic and supportive environment where each member can thrive. Your participation would be a valuable addition to our group\, and we are excited to see the synergies that can be created through our collective efforts. \nThe meeting fee includes a fabulous cooked breakfast with a vegetarian and vegan option all with ample tea and coffee all cooked for us – what could be better than that. \nAlso\, any refunds will be by request only\, the chances are if you’ve said that you’re coming and have paid then we will have paid for your refreshments in advance – we hope you understand. \nNote: Right of admission is reserved\, registering delegates will be screened to ensure the correct audience is in attendance.
URL:https://g12businessclub.co.uk/event/march-g12-teign-selekt/
LOCATION:Cafe ODE\, Ness Drive\, Shaldon\, Devon\, TQ14 0HP\, United Kingdom
CATEGORIES:Selekt Teign Group,Teign Referral Group
ATTACH;FMTTYPE=image/jpeg:https://g12businessclub.co.uk/wp-content/uploads/2025/07/G12_June_2025-217.jpg
ORGANIZER;CN="G12 Business Club":MAILTO:hello@g12businessclub.co.uk
END:VEVENT
BEGIN:VEVENT
DTSTART;TZID=Europe/London:20260311T093000
DTEND;TZID=Europe/London:20260311T093000
DTSTAMP:20260423T224558
CREATED:20260115T113720Z
LAST-MODIFIED:20260302T161519Z
UID:8574-1773221400-1773221400@g12businessclub.co.uk
SUMMARY:March Buckland Athletic Business Networking
DESCRIPTION:Join Us for a Great Morning of Networking\nKickstart your day with a friendly and productive business networking breakfast hosted at Buckland Athletic FC. Enjoy a relaxed atmosphere\, great food\, and the perfect opportunity to meet local entrepreneurs\, business owners\, freelancers\, and professionals from across the region. \nWhether you’re looking to make new connections\, strengthen existing relationships\, or simply start the day with valuable conversations — this breakfast event is designed for you. \nWhat’s Included\nA delicious hot breakfast \nTea\, coffee\, and refreshments on arrival \nOpen\, friendly networking with a wide range of local businesses \nA welcoming venue at Buckland Athletic’s VX3 Stadium \n\n      \n        \n      \n    \nWhy Attend?\nGrow your network \nShare ideas and opportunities \nBuild relationships that can help your business \nEnjoy a relaxed start to the business day \nMeet like-minded professionals in a supportive environment \nWe Look Forward to Seeing You There \nStart the day the right way with great food\, great conversations\, and great business connections at Buckland Athletic.
URL:https://g12businessclub.co.uk/event/march-buckland-athletic-business-networking/
LOCATION:Buckland Athletic F.C\, Kingskerswell Road\, Newton Abbot\, Devon\, TQ12 5JU\, United Kingdom
CATEGORIES:Buckland Athletic,Business Breakfast
ATTACH;FMTTYPE=image/jpeg:https://g12businessclub.co.uk/wp-content/uploads/2026/03/buckland-jan26-scaled.jpg
ORGANIZER;CN="G12 Business Club":MAILTO:hello@g12businessclub.co.uk
END:VEVENT
BEGIN:VEVENT
DTSTART;TZID=Europe/London:20260325T093000
DTEND;TZID=Europe/London:20260325T113000
DTSTAMP:20260423T224558
CREATED:20260206T095522Z
LAST-MODIFIED:20260218T130417Z
UID:8601-1774431000-1774438200@g12businessclub.co.uk
SUMMARY:Big Breakfast Business Networking
DESCRIPTION:Join us on Wednesday 25th March from 9.30 am at The Phonenix in Chudleigh for our March Big Breakfast Business Networking meeting. \nG12 Business Networking in Devon is aiming to be the best business network you can attend\, it doesn’t matter if you’re a startup\, sole trader\, entrepreneur or a member of a larger team\, you’ll love the relaxed\, informal environment. \nFor this event\, we’ll have privacy and the same superb standard of service with a fabulous breakfast and bottomless tea and coffees. \nAs always we will be working to our meeting format that includes three guaranteed 10 min 1-2-1 conversations with people you choose – this unlocks so many great opportunities! \nG12 has no membership fees and no compulsory attendance or forced referrals its just great networking and an opportunity to meet lots of other local business people. So why not come along and join this vibrant group\, we’d love to meet you… \nAgenda for our March G12 Business Networking Meeting \nArrive at 9.30am \n9.30 – 9.55 Open Networking & 60 seconds \n9.55 – 10.10 Breakfast is served \n10.10 – 10.20 completion of the 60 second round \n10.30 – Our Speaker is Chris Fleet who will be having a practical look at how different behaviour styles show up under pressure and how understanding these stress responses can reduce friction and improve communication. \n10.30 – 11.20 am our networking 1-2-1 opportunity \n11.30 am – we close the meeting\n\n      \n        \n      \n    \nThis includes a fabulous cooked breakfast with a vegetarian and vegan option all with ample tea and coffee all cooked for us – what could be better than that! \n \nWe’d love to meet you at the next Glorious 12th+ meeting\, we always try to keep the costs to a minimum so all members get maximum value hence why there may be a pay online price and pay on the door price which could be different. Also\, any refunds will be by request only\, the chances are if you’ve said that you’re coming and have paid then we will have paid for your refreshments in advance – we hope you understand. \nNote: Right of admission is reserved\, registering delegates will be screened to ensure the correct audience is in attendance.
URL:https://g12businessclub.co.uk/event/big-breakfast-business-networking/
LOCATION:The Phoenix\, 25 Fore Street\, Chudleigh\, Devon\, TQ13 0HX\, United Kingdom
CATEGORIES:Business Breakfast
ATTACH;FMTTYPE=image/jpeg:https://g12businessclub.co.uk/wp-content/uploads/2025/07/G12_June_2025-213.jpg
ORGANIZER;CN="G12 Business Club":MAILTO:hello@g12businessclub.co.uk
END:VEVENT
BEGIN:VEVENT
DTSTART;VALUE=DATE:20260401
DTEND;VALUE=DATE:20260402
DTSTAMP:20260423T224558
CREATED:20260220T091655Z
LAST-MODIFIED:20260220T091655Z
UID:8620-1775001600-1775087999@g12businessclub.co.uk
SUMMARY:Business Fest South West
DESCRIPTION:We’re very excited to partner with Business Fest South West\, the biggest business event in the South West\, which is taking place on Wednesday 1st April 2026 Westpoint Arena\, Exeter \nBusiness Fest South West brings together businesses from across the region to connect\, network and discover new opportunities. It’s designed specifically for business owners\, directors and decision-makers who want to grow their business\, raise their profile and build meaningful connections. \nThe event will feature: \n● A busy exhibition floor showcasing a wide range of businesses \n● Opportunities to meet potential clients\, suppliers and partners \n● Networking with hundreds of professionals from across the South West \n● A packed programme designed to support business growth and collaboration \nExhibit at Business Fest South West \nIf you’re looking to actively promote your business\, there are still limited exhibitor spaces available. \nExhibiting gives you the opportunity to: \n● Showcase your products or services to a highly engaged business audience \n● Generate new leads and enquiries \n● Increase brand awareness across the South West \n● Build relationships with other local and regional businesses \nAs you are affiliated with us\, you’re also eligible for a significant discount! Just be sure to let the #BizFestSW team know! \nFind out more about exhibiting here: https://bizfestsw.co.uk/g12-networking/ \nAttend as a Visitor \nIf exhibiting isn’t right for you\, you’re very welcome to attend as a visitor. \nAs a visitor\, you can: \n● Discover new suppliers\, services and solutions \n● Network with business owners and professionals from multiple sectors \n● Explore potential collaborations and partnerships \n● Gain insight and inspiration in a professional\, welcoming environment \nRegister to attend as a visitor here: https://bit.ly/BizFestSW26Tickets \nWith Business Fest South West taking place on Wednesday\, 1st April at Westpoint Arena\, Exeter\, now is the perfect time to secure your place\, whether as an exhibitor or a visitor. \nWe hope to see you there.
URL:https://g12businessclub.co.uk/event/business-fest-south-west/
LOCATION:Westpoint Arena\, Exeter\, Clyst St Mary\, Exeter\, Devon\, EX51DJ\, United Kingdom
ATTACH;FMTTYPE=image/png:https://g12businessclub.co.uk/wp-content/uploads/2026/02/Official-Partner-Social-Graphic-1.png
END:VEVENT
BEGIN:VEVENT
DTSTART;TZID=Europe/London:20260422T093000
DTEND;TZID=Europe/London:20260422T113000
DTSTAMP:20260423T224558
CREATED:20260219T112610Z
LAST-MODIFIED:20260325T144937Z
UID:8612-1776850200-1776857400@g12businessclub.co.uk
SUMMARY:Cornwall Business Networking with Dawes Accountants
DESCRIPTION:G12 Business Club is excited to partner with Dawes Accountants for a special event at the prestigious St Mellion Estate on Wednesday 22nd April. \nJoin us for an insightful and engaging morning of networking\, expert talks\, and valuable business connections. Whether you’re looking to expand your network\, gain fresh business insights\, or simply enjoy the company of like-minded professionals\, this event is one you won’t want to miss. \n🗣 Key Highlights: \nNetworking opportunities with local businesses and professionals\nInsightful presentations by Dawes Accountants\nA chance to build strong business relationships\nDelicious refreshments in a beautiful setting\nAs always we will be working to our meeting format that includes three guaranteed 10 min 1-2-1 conversations with people you choose – this unlocks so many great opportunities! \nAgenda for our St Mellion G12 Business Networking Meeting with Dawes Accountants. \nArrive at 9.30am \n9.30 – 9.55 Open Networking & 60 seconds \n9.55 – 10.10 Breakfast is served \n10.10 – 10.20 completion of the 60 second round \n10.30 – Our Speaker is Chris Fleet who will be having a practical look at how different behaviour styles show up under pressure and how understanding these stress responses can reduce friction and improve communication. \n10.30 – 11.20am further networking 1-2-1 opportunity and close \nThis includes a fabulous cooked breakfast with a vegetarian and vegan option all with ample tea and coffee all cooked for us – what could be better than that! \n\n      \n        \n      \n    \nCome along and be part of a dynamic business community that supports and uplifts each other. Secure your spot today and get ready to connect\, learn\, and grow with G12 Business Club and Dawes Accountants! \nWe’d love to meet you at the next Glorious 12th+ meeting\, we always try to keep the costs to a minimum so all members get maximum value. Also\, any refunds will be by request only\, the chances are if you’ve said that you’re coming and have paid then we will have paid for your refreshments in advance – we hope you understand. \nNote: Right of admission is reserved\, registering delegates will be screened to ensure the correct audience is in attendance.
URL:https://g12businessclub.co.uk/event/cornwall-business-networking-with-dawes-accountants/
LOCATION:St Mellion\, Plymouth\, PL12 6SD\, United Kingdom
CATEGORIES:Business Breakfast
ATTACH;FMTTYPE=image/jpeg:https://g12businessclub.co.uk/wp-content/uploads/2026/02/PXL_20260211_103317081-scaled.jpg
ORGANIZER;CN="G12 Business Club":MAILTO:hello@g12businessclub.co.uk
END:VEVENT
BEGIN:VEVENT
DTSTART;TZID=Europe/London:20260429T093000
DTEND;TZID=Europe/London:20260429T113000
DTSTAMP:20260423T224558
CREATED:20260220T090638Z
LAST-MODIFIED:20260318T174855Z
UID:8617-1777455000-1777462200@g12businessclub.co.uk
SUMMARY:Easter Big Breakfast Networking
DESCRIPTION:Join us on Wednesday 29th April from 9.30 am at The Cockhaven Arms in Bishopsteignton for our Big Breakfast meeting. \nG12 Business Networking in Devon is aiming to be the best business network you can attend\, it doesn’t matter if you’re a startup\, sole trader\, entrepreneur or a member of a larger team\, you’ll love the relaxed\, informal environment. \nAt the Cockhaven Arms but we are in our own dedicated area room away from the hotels’ paying guests. So for this event\, we’ll have privacy and the same superb standard of service with a fabulous breakfast and bottomless tea and coffees. \nAs always we will be working to our meeting format that includes three guaranteed 10 min 1-2-1 conversations with people you choose – this unlocks so many great opportunities! \nG12 has no membership fees and no compulsory attendance or forced referrals its just great networking and an opportunity to meet lots of other local business people. So why not come along and join this vibrant group\, we’d love to meet you…\n\n      \n        \n      \n    \nAgenda for our Dartmoor G12 Business Networking Meeting \nArrive at 9.30am \n9.30 – 9.55 Open Networking & 60 seconds \n9.55 – 10.10 Breakfast is served \n10.10 – 10.20 completion of the 60 second round \n10.30 – Our Speaker is Paul Skinner from Backworld who will be demonstrating how to get more movement into your workday. \n10.30 – 11.20 am our networking 1-2-1 opportunity \n \nThis includes a fabulous cooked breakfast with a vegetarian and vegan option all with ample tea and coffee all cooked for us – what could be better than that! \nWe’d love to meet you at the next Glorious 12th+ meeting\, we always try to keep the costs to a minimum so all members get maximum value hence why there may be a pay online price and pay on the door price which could be different. Also\, any refunds will be by request only\, the chances are if you’ve said that you’re coming and have paid then we will have paid for your refreshments in advance – we hope you understand. \nNote: Right of admission is reserved\, registering delegates will be screened to ensure the correct audience is in attendance.
URL:https://g12businessclub.co.uk/event/easter-big-breakfast-networking/
LOCATION:Cockhaven Arms\, 16 Cockhaven Road\, Bishopsteignton\, Devon\, TQ14 9RF\, United Kingdom
CATEGORIES:Business Breakfast
ATTACH;FMTTYPE=image/jpeg:https://g12businessclub.co.uk/wp-content/uploads/2025/07/G12_June_2025-222.jpg
ORGANIZER;CN="G12 Business Club":MAILTO:hello@g12businessclub.co.uk
END:VEVENT
BEGIN:VEVENT
DTSTART;TZID=Europe/London:20260506T093000
DTEND;TZID=Europe/London:20260506T113000
DTSTAMP:20260423T224558
CREATED:20260326T125235Z
LAST-MODIFIED:20260326T125235Z
UID:8662-1778059800-1778067000@g12businessclub.co.uk
SUMMARY:May Teign Selekt
DESCRIPTION:Join us on Wednesday 6th May from 9.30 am at The Phoenix in Chudleigh for our G12 Selekt Business Networking Referral event for our new 2026 format! \nG12 Business Networking in Devon aims to be the best business network you can attend\, it doesn’t matter if you’re a startup\, sole trader\, entrepreneur\, or a member of a larger team\, you’ll love the relaxed\, informal environment. \nWe’ve expanded this successful format to now offer a Selekt Business Referral group as well as our usual last Wednesday of the month business networking event. \nFor this G12 Selekt meeting\, you’re invited to join other business professionals in our community\, who contribute to the mutual success of all members. \nThe meeting will provide an excellent opportunity to: \nExpand Your Network: Connect with a diverse group of professionals\, potential clients\, and collaborators from various industries.\nGenerate Qualified Referrals: Access to a pool of referrals that can lead to new business opportunities and partnerships.\nBuild Trust and Credibility: Establish yourself as a trusted resource within the community by consistently providing and receiving valuable referrals.\nEnhance Visibility: Increase your business’s visibility and brand awareness among a targeted audience of decision-makers and influencers.\nLearn and Grow: Gain insights from industry experts and peers that can help you refine your networking skills and business strategies.\nAccelerate Business Growth: Leverage the power of referrals to accelerate your business growth and achieve your professional goals.\nSupportive Community: Join a supportive community of like-minded professionals who are invested in each other’s success and willing to collaborate. \n\n      \n        \n      \n    \nG12 Selekt Meeting Agenda\nWelcome and Introduction\nMember Introductions and Business Pitches\nReferral Exchange and Networking\nDiscussion on Group Goals and Future Meetings\nQ&A and Closing Remarks\nWe are committed to creating a dynamic and supportive environment where each member can thrive. Your participation would be a valuable addition to our group\, and we are excited to see the synergies that can be created through our collective efforts. \nThe meeting fee includes a fabulous cooked breakfast with a vegetarian and vegan option all with ample tea and coffee all cooked for us – what could be better than that. \nAlso\, any refunds will be by request only\, the chances are if you’ve said that you’re coming and have paid then we will have paid for your refreshments in advance – we hope you understand. \nNote: Right of admission is reserved\, registering delegates will be screened to ensure the correct audience is in attendance.
URL:https://g12businessclub.co.uk/event/may-teign-selekt/
LOCATION:The Phoenix\, 25 Fore Street\, Chudleigh\, Devon\, TQ13 0HX\, United Kingdom
CATEGORIES:Selekt Teign Group
ATTACH;FMTTYPE=image/jpeg:https://g12businessclub.co.uk/wp-content/uploads/2026/01/selekt-jan26.jpg
ORGANIZER;CN="G12 Business Club":MAILTO:hello@g12businessclub.co.uk
END:VEVENT
BEGIN:VEVENT
DTSTART;TZID=Europe/London:20260527T093000
DTEND;TZID=Europe/London:20260527T113000
DTSTAMP:20260423T224558
CREATED:20260326T150835Z
LAST-MODIFIED:20260326T153250Z
UID:8665-1779874200-1779881400@g12businessclub.co.uk
SUMMARY:May Big Breakfast Networking
DESCRIPTION:Join us on Wednesday 27th May from 9.30 am at Buckland Athletic Football Club for our Big Breakfast meeting. \nG12 Business Networking in Devon is aiming to be the best business network you can attend\, it doesn’t matter if you’re a startup\, sole trader\, entrepreneur or a member of a larger team\, you’ll love the relaxed\, informal environment. \nAt the Cockhaven Arms but we are in our own dedicated area room away from the hotels’ paying guests. So for this event\, we’ll have privacy and the same superb standard of service with a fabulous breakfast and bottomless tea and coffees. \nAs always we will be working to our meeting format that includes three guaranteed 10 min 1-2-1 conversations with people you choose – this unlocks so many great opportunities! \nG12 has no membership fees and no compulsory attendance or forced referrals its just great networking and an opportunity to meet lots of other local business people. So why not come along and join this vibrant group\, we’d love to meet you…\n\n      \n        \n      \n     \nAgenda for our Buckland Athletic G12 Business Networking Meeting\nArrive at 9.30am \n9.30 – 9.55 Open Networking & 60 seconds \n9.55 – 10.10 Breakfast is served \n10.10 – 10.20 completion of the 60 second round \n10.30 – Our Speaker is tbc. \n10.30 – 11.20 am our networking 1-2-1 opportunity \n \nThis includes a fabulous cooked breakfast with a vegetarian and vegan option all with ample tea and coffee all cooked for us – what could be better than that! \nWe’d love to meet you at the next Glorious 12th+ meeting\, we always try to keep the costs to a minimum so all members get maximum value hence why there may be a pay online price and pay on the door price which could be different. Also\, any refunds will be by request only\, the chances are if you’ve said that you’re coming and have paid then we will have paid for your refreshments in advance – we hope you understand. \nNote: Right of admission is reserved\, registering delegates will be screened to ensure the correct audience is in attendance.
URL:https://g12businessclub.co.uk/event/may-big-breakfast-networking/
LOCATION:Buckland Athletic F.C\, Kingskerswell Road\, Newton Abbot\, Devon\, TQ12 5JU\, United Kingdom
CATEGORIES:Buckland Athletic,Business Breakfast
ATTACH;FMTTYPE=image/jpeg:https://g12businessclub.co.uk/wp-content/uploads/2025/07/G12_June_2025-14.jpg
ORGANIZER;CN="G12 Business Club":MAILTO:hello@g12businessclub.co.uk
END:VEVENT
BEGIN:VEVENT
DTSTART;TZID=Europe/London:20260617T093000
DTEND;TZID=Europe/London:20260617T113000
DTSTAMP:20260423T224558
CREATED:20260414T075451Z
LAST-MODIFIED:20260414T075851Z
UID:8672-1781688600-1781695800@g12businessclub.co.uk
SUMMARY:June Cornwall Business Networking with Dawes Accountants
DESCRIPTION:G12 Business Club is excited to partner with Dawes Accountants for a special event at the prestigious St Mellion Estate on Wednesday 17th June. \nJoin us for an insightful and engaging morning of networking\, expert talks\, and valuable business connections. Whether you’re looking to expand your network\, gain fresh business insights\, or simply enjoy the company of like-minded professionals\, this event is one you won’t want to miss. \n🗣 Key Highlights: \nNetworking opportunities with local businesses and professionals\nInsightful presentations by Dawes Accountants\nA chance to build strong business relationships\nDelicious refreshments in a beautiful setting\nAs always we will be working to our meeting format that includes three guaranteed 10 min 1-2-1 conversations with people you choose – this unlocks so many great opportunities! \nAgenda for our St Mellion G12 Business Networking Meeting with Dawes Accountants. \nArrive at 9.30am \n9.30 – 9.55 Open Networking & 60 seconds \n9.55 – 10.10 Breakfast is served \n10.10 – 10.20 completion of the 60 second round \n10.30 – Our Speaker is Vicky Hanks from National award winning Boosters and the bespoke service they can provide to your business\, together with some fun facts on how long people hold onto your branded merchandise\, ensuring your brand is in front them! \n10.30 – 11.20am further networking 1-2-1 opportunity and close \nThis includes a fabulous cooked breakfast with a vegetarian and vegan option all with ample tea and coffee all cooked for us – what could be better than that! \n\n      \n        \n      \n    \nCome along and be part of a dynamic business community that supports and uplifts each other. Secure your spot today and get ready to connect\, learn\, and grow with G12 Business Club and Dawes Accountants! \nWe’d love to meet you at the next Glorious 12th+ meeting\, we always try to keep the costs to a minimum so all members get maximum value. Also\, any refunds will be by request only\, the chances are if you’ve said that you’re coming and have paid then we will have paid for your refreshments in advance – we hope you understand. \nNote: Right of admission is reserved\, registering delegates will be screened to ensure the correct audience is in attendance.
URL:https://g12businessclub.co.uk/event/june-cornwall-business-networking-with-dawes-accountants/
LOCATION:St Mellion\, Plymouth\, PL12 6SD\, United Kingdom
CATEGORIES:Business Breakfast
ATTACH;FMTTYPE=image/jpeg:https://g12businessclub.co.uk/wp-content/uploads/2025/07/G12_June_2025-29.jpg
ORGANIZER;CN="G12 Business Club":MAILTO:hello@g12businessclub.co.uk
END:VEVENT
END:VCALENDAR